BEGIN:VCALENDAR
VERSION:2.0
PRODID:-//ALTERNATIVE – die GRÜNEN Kt. Zug - ECPv6.15.15//NONSGML v1.0//EN
CALSCALE:GREGORIAN
METHOD:PUBLISH
X-WR-CALNAME:ALTERNATIVE – die GRÜNEN Kt. Zug
X-ORIGINAL-URL:https://gruene-zug.ch
X-WR-CALDESC:Veranstaltungen für ALTERNATIVE – die GRÜNEN Kt. Zug
REFRESH-INTERVAL;VALUE=DURATION:PT1H
X-Robots-Tag:noindex
X-PUBLISHED-TTL:PT1H
BEGIN:VTIMEZONE
TZID:Europe/Zurich
BEGIN:DAYLIGHT
TZOFFSETFROM:+0100
TZOFFSETTO:+0200
TZNAME:CEST
DTSTART:20250330T010000
END:DAYLIGHT
BEGIN:STANDARD
TZOFFSETFROM:+0200
TZOFFSETTO:+0100
TZNAME:CET
DTSTART:20251026T010000
END:STANDARD
BEGIN:DAYLIGHT
TZOFFSETFROM:+0100
TZOFFSETTO:+0200
TZNAME:CEST
DTSTART:20260329T010000
END:DAYLIGHT
BEGIN:STANDARD
TZOFFSETFROM:+0200
TZOFFSETTO:+0100
TZNAME:CET
DTSTART:20261025T010000
END:STANDARD
BEGIN:DAYLIGHT
TZOFFSETFROM:+0100
TZOFFSETTO:+0200
TZNAME:CEST
DTSTART:20270328T010000
END:DAYLIGHT
BEGIN:STANDARD
TZOFFSETFROM:+0200
TZOFFSETTO:+0100
TZNAME:CET
DTSTART:20271031T010000
END:STANDARD
END:VTIMEZONE
BEGIN:VEVENT
DTSTART;TZID=Europe/Zurich:20260323T180000
DTEND;TZID=Europe/Zurich:20260323T213000
DTSTAMP:20260421T102227
CREATED:20260226T103405Z
LAST-MODIFIED:20260319T100136Z
UID:2713-1774288800-1774301400@gruene-zug.ch
SUMMARY:Weichelt und Lustenberger bi de Lüüt
DESCRIPTION:
URL:https://gruene-zug.ch/event/weichelt-und-lustenberger-bi-de-lueuet
LOCATION:Stadt Zug
CATEGORIES:Weichelt und Lustenberger bei den Leuten
END:VEVENT
END:VCALENDAR